BEGIN:VCALENDAR
VERSION:2.0
PRODID:-//Celiac Disease Foundation - ECPv6.15.20//NONSGML v1.0//EN
CALSCALE:GREGORIAN
METHOD:PUBLISH
X-ORIGINAL-URL:https://celiac.org
X-WR-CALDESC:Events for Celiac Disease Foundation
REFRESH-INTERVAL;VALUE=DURATION:PT1H
X-Robots-Tag:noindex
X-PUBLISHED-TTL:PT1H
BEGIN:VTIMEZONE
TZID:America/Los_Angeles
BEGIN:DAYLIGHT
TZOFFSETFROM:-0800
TZOFFSETTO:-0700
TZNAME:PDT
DTSTART:20160313T100000
END:DAYLIGHT
BEGIN:STANDARD
TZOFFSETFROM:-0700
TZOFFSETTO:-0800
TZNAME:PST
DTSTART:20161106T090000
END:STANDARD
BEGIN:DAYLIGHT
TZOFFSETFROM:-0800
TZOFFSETTO:-0700
TZNAME:PDT
DTSTART:20170312T100000
END:DAYLIGHT
BEGIN:STANDARD
TZOFFSETFROM:-0700
TZOFFSETTO:-0800
TZNAME:PST
DTSTART:20171105T090000
END:STANDARD
BEGIN:DAYLIGHT
TZOFFSETFROM:-0800
TZOFFSETTO:-0700
TZNAME:PDT
DTSTART:20180311T100000
END:DAYLIGHT
BEGIN:STANDARD
TZOFFSETFROM:-0700
TZOFFSETTO:-0800
TZNAME:PST
DTSTART:20181104T090000
END:STANDARD
END:VTIMEZONE
BEGIN:VEVENT
DTSTART;TZID=America/Los_Angeles:20170714T130000
DTEND;TZID=America/Los_Angeles:20170714T200000
DTSTAMP:20260421T080725
CREATED:20170623T184246Z
LAST-MODIFIED:20170623T184246Z
UID:640-1500037200-1500062400@celiac.org
SUMMARY:AITI Golf Outing
DESCRIPTION:Join us for the 2nd Annual AITI Golf Outing to be held at the Deerfield Golf Club. Space is limited so register early! We will have several contests including a chance to win $10\,000 for a hole-in-one! This will be a shotgun start\, so everyone will start and finish at the same time. Dinner is included and will be held in the club house and adjoining deck. \nContact Julie McCormack for any questions at Julie.McCormack@allstate.com or (847) 402-5574.  \nClick here to register.
URL:https://celiac.org/event/aiti-golf-outing-2/
END:VEVENT
END:VCALENDAR